BEGIN:VCALENDAR
VERSION:2.0
PRODID:-//Vegan Justice - ECPv6.15.20//NONSGML v1.0//EN
CALSCALE:GREGORIAN
METHOD:PUBLISH
X-WR-CALNAME:Vegan Justice
X-ORIGINAL-URL:https://veganjustice.com
X-WR-CALDESC:Events for Vegan Justice
REFRESH-INTERVAL;VALUE=DURATION:PT1H
X-Robots-Tag:noindex
X-PUBLISHED-TTL:PT1H
BEGIN:VTIMEZONE
TZID:America/Los_Angeles
BEGIN:DAYLIGHT
TZOFFSETFROM:-0800
TZOFFSETTO:-0700
TZNAME:PDT
DTSTART:20230312T100000
END:DAYLIGHT
BEGIN:STANDARD
TZOFFSETFROM:-0700
TZOFFSETTO:-0800
TZNAME:PST
DTSTART:20231105T090000
END:STANDARD
BEGIN:DAYLIGHT
TZOFFSETFROM:-0800
TZOFFSETTO:-0700
TZNAME:PDT
DTSTART:20240310T100000
END:DAYLIGHT
BEGIN:STANDARD
TZOFFSETFROM:-0700
TZOFFSETTO:-0800
TZNAME:PST
DTSTART:20241103T090000
END:STANDARD
BEGIN:DAYLIGHT
TZOFFSETFROM:-0800
TZOFFSETTO:-0700
TZNAME:PDT
DTSTART:20250309T100000
END:DAYLIGHT
BEGIN:STANDARD
TZOFFSETFROM:-0700
TZOFFSETTO:-0800
TZNAME:PST
DTSTART:20251102T090000
END:STANDARD
BEGIN:DAYLIGHT
TZOFFSETFROM:-0800
TZOFFSETTO:-0700
TZNAME:PDT
DTSTART:20260308T100000
END:DAYLIGHT
BEGIN:STANDARD
TZOFFSETFROM:-0700
TZOFFSETTO:-0800
TZNAME:PST
DTSTART:20261101T090000
END:STANDARD
END:VTIMEZONE
BEGIN:VEVENT
DTSTART;TZID=America/Los_Angeles:20250518T100000
DTEND;TZID=America/Los_Angeles:20250518T180000
DTSTAMP:20260421T152637
CREATED:20221219T225226Z
LAST-MODIFIED:20250121T003502Z
UID:10000022-1747562400-1747591200@veganjustice.com
SUMMARY:Escondido Street Festival
DESCRIPTION:
URL:https://veganjustice.com/event/escondido-street-festival/
LOCATION:Escondido Grand Avenue Festival\, Grand Avenue\, Escondido\, CA\, 92025\, United States
ATTACH;FMTTYPE=image/jpeg:https://veganjustice.com/wp-content/uploads/2022/08/escondido-sign-scaled.jpg
END:VEVENT
BEGIN:VEVENT
DTSTART;TZID=America/Los_Angeles:20250426T090000
DTEND;TZID=America/Los_Angeles:20250426T170000
DTSTAMP:20260421T152637
CREATED:20240125T210235Z
LAST-MODIFIED:20250121T003348Z
UID:10000033-1745658000-1745686800@veganjustice.com
SUMMARY:Encinitas Spring Street Fair
DESCRIPTION:
URL:https://veganjustice.com/event/encinitas-spring-street-fair/
LOCATION:Encinitas Street Fair\, 818 S Coast Hwy 101\, Encinitas\, CA\, 92024\, United States
ATTACH;FMTTYPE=image/jpeg:https://veganjustice.com/wp-content/uploads/2022/12/encinitas-sign-scaled.jpg
END:VEVENT
BEGIN:VEVENT
DTSTART;TZID=America/Los_Angeles:20250315T090000
DTEND;TZID=America/Los_Angeles:20250315T180000
DTSTAMP:20260421T152637
CREATED:20221219T224033Z
LAST-MODIFIED:20250121T003313Z
UID:10000021-1742029200-1742061600@veganjustice.com
SUMMARY:St. Patrick’s Day Parade & Irish Festival
DESCRIPTION:
URL:https://veganjustice.com/event/st-patricks-day-parade-irish-festival/
LOCATION:Balboa Park\, 1549 El Prado\, San Diego\, CA\, 92101\, United States
ATTACH;FMTTYPE=image/jpeg:https://veganjustice.com/wp-content/uploads/2022/12/balboa-park-scaled.jpg
END:VEVENT
BEGIN:VEVENT
DTSTART;VALUE=DATE:20240921
DTEND;VALUE=DATE:20240923
DTSTAMP:20260421T152638
CREATED:20221219T231310Z
LAST-MODIFIED:20240125T211047Z
UID:10000026-1726876800-1727049599@veganjustice.com
SUMMARY:Adams Avenue Street Fair
DESCRIPTION:
URL:https://veganjustice.com/event/adams-avenue-street-fair/
LOCATION:Adams Avenue Street Fair\, 4649 Hawley Blvd\, San Diego\, CA\, 92116\, United States
ATTACH;FMTTYPE=image/jpeg:https://veganjustice.com/wp-content/uploads/2022/08/adams-ave-business-district-normal-heights_1200x800.jpg
END:VEVENT
BEGIN:VEVENT
DTSTART;VALUE=DATE:20240720
DTEND;VALUE=DATE:20240722
DTSTAMP:20260421T152638
CREATED:20221219T230803Z
LAST-MODIFIED:20240125T210817Z
UID:10000024-1721433600-1721606399@veganjustice.com
SUMMARY:San Diego Pride
DESCRIPTION:
URL:https://veganjustice.com/event/san-diego-pride/
LOCATION:Balboa Park\, 1549 El Prado\, San Diego\, CA\, 92101\, United States
ATTACH;FMTTYPE=image/jpeg:https://veganjustice.com/wp-content/uploads/2022/07/daniel-james-Dhw68hz9KbA-unsplash-scaled.jpg
END:VEVENT
BEGIN:VEVENT
DTSTART;TZID=America/Los_Angeles:20240413T110000
DTEND;TZID=America/Los_Angeles:20240413T180000
DTSTAMP:20260421T152638
CREATED:20230124T175858Z
LAST-MODIFIED:20240125T210542Z
UID:10000029-1713006000-1713031200@veganjustice.com
SUMMARY:San Diego Vegan Festival
DESCRIPTION:
URL:https://veganjustice.com/event/san-diego-vegan-festival/
LOCATION:Waterfront Park\, 1600 Pacific Highway\, San Diego\, CA\, 92101\, United States
ATTACH;FMTTYPE=image/jpeg:https://veganjustice.com/wp-content/uploads/2023/01/366671005_642688944626536_3408185466946681377_n.jpg
END:VEVENT
END:VCALENDAR